BEGIN:VCALENDAR
VERSION:2.0
PRODID:-//162.241.218.67//NONSGML kigkonsult.se iCalcreator 2.20//
CALSCALE:GREGORIAN
METHOD:PUBLISH
X-FROM-URL:https://torranceaikidoclub.org
X-WR-TIMEZONE:America/Los_Angeles
BEGIN:VTIMEZONE
TZID:America/Los_Angeles
X-LIC-LOCATION:America/Los_Angeles
BEGIN:STANDARD
DTSTART:20251102T020000
TZOFFSETFROM:-0700
TZOFFSETTO:-0800
RDATE:20261101T020000
TZNAME:PST
END:STANDARD
BEGIN:DAYLIGHT
DTSTART:20260308T020000
TZOFFSETFROM:-0800
TZOFFSETTO:-0700
TZNAME:PDT
END:DAYLIGHT
END:VTIMEZONE
BEGIN:VEVENT
UID:ai1ec-1880@torranceaikidoclub.org
DTSTAMP:20260425T155740Z
CATEGORIES;LANGUAGE=en-US:Classes
CONTACT:
DESCRIPTION:<div class='sharedaddy sd-sharing-enabled'><div class='robots-n
 ocontent sd-block sd-social sd-social-icon sd-sharing'><h3 class='sd-title
 '>Share this:</h3><div class='sd-content'><ul><li class='share-email'><a r
 el='nofollow noopener noreferrer' data-shared='' class='share-email sd-but
 ton share-icon no-text' href='mailto:?subject=%5BShared%20Post%5D%20Announ
 cement%3A%20Holiday%20-%20No%20Class&body=https%3A%2F%2Ftorranceaikidoclub
 .org%2Fannouncement-holiday-no-class-7%2F&share=email' target='_blank' tit
 le='Click to email a link to a friend' data-email-share-error-title='Do yo
 u have email set up?' data-email-share-error-text='If you're having proble
 ms sharing via email\, you might not have email set up for your browser. Y
 ou may need to create a new email yourself.' data-email-share-nonce='6a7b1
 41122' data-email-share-track-url='https://torranceaikidoclub.org/announce
 ment-holiday-no-class-7/?share=email'><span></span><span class='sharing-sc
 reen-reader-text'>Click to email a link to a friend (Opens in new window)<
 /span></a></li><li class='share-facebook'><a rel='nofollow noopener norefe
 rrer' data-shared='sharing-facebook-1893' class='share-facebook sd-button 
 share-icon no-text' href='https://torranceaikidoclub.org/announcement-holi
 day-no-class-7/?share=facebook' target='_blank' title='Click to share on F
 acebook' ><span></span><span class='sharing-screen-reader-text'>Click to s
 hare on Facebook (Opens in new window)</span></a></li><li class='share-twi
 tter'><a rel='nofollow noopener noreferrer' data-shared='sharing-twitter-1
 893' class='share-twitter sd-button share-icon no-text' href='https://torr
 anceaikidoclub.org/announcement-holiday-no-class-7/?share=twitter' target=
 '_blank' title='Click to share on Twitter' ><span></span><span class='shar
 ing-screen-reader-text'>Click to share on Twitter (Opens in new window)</s
 pan></a></li><li class='share-pinterest'><a rel='nofollow noopener norefer
 rer' data-shared='sharing-pinterest-1893' class='share-pinterest sd-button
  share-icon no-text' href='https://torranceaikidoclub.org/announcement-hol
 iday-no-class-7/?share=pinterest' target='_blank' title='Click to share on
  Pinterest' ><span></span><span class='sharing-screen-reader-text'>Click t
 o share on Pinterest (Opens in new window)</span></a></li><li class='share
 -end'></li></ul></div></div></div>
DTSTART;VALUE=DATE:20241214
DTEND;VALUE=DATE:20250106
SEQUENCE:0
SUMMARY:Facilities closed – No class
URL:https://torranceaikidoclub.org/event/facilities-closed-no-class-2/
X-COST-TYPE:free
END:VEVENT
BEGIN:VEVENT
UID:ai1ec-1853@torranceaikidoclub.org
DTSTAMP:20260425T155740Z
CATEGORIES;LANGUAGE=en-US:Classes
CONTACT:
DESCRIPTION:<div class='sharedaddy sd-sharing-enabled'><div class='robots-n
 ocontent sd-block sd-social sd-social-icon sd-sharing'><h3 class='sd-title
 '>Share this:</h3><div class='sd-content'><ul><li class='share-email'><a r
 el='nofollow noopener noreferrer' data-shared='' class='share-email sd-but
 ton share-icon no-text' href='mailto:?subject=%5BShared%20Post%5D%20Announ
 cement%3A%20Holiday%20-%20No%20Class&body=https%3A%2F%2Ftorranceaikidoclub
 .org%2Fannouncement-holiday-no-class-7%2F&share=email' target='_blank' tit
 le='Click to email a link to a friend' data-email-share-error-title='Do yo
 u have email set up?' data-email-share-error-text='If you're having proble
 ms sharing via email\, you might not have email set up for your browser. Y
 ou may need to create a new email yourself.' data-email-share-nonce='6a7b1
 41122' data-email-share-track-url='https://torranceaikidoclub.org/announce
 ment-holiday-no-class-7/?share=email'><span></span><span class='sharing-sc
 reen-reader-text'>Click to email a link to a friend (Opens in new window)<
 /span></a></li><li class='share-facebook'><a rel='nofollow noopener norefe
 rrer' data-shared='sharing-facebook-1893' class='share-facebook sd-button 
 share-icon no-text' href='https://torranceaikidoclub.org/announcement-holi
 day-no-class-7/?share=facebook' target='_blank' title='Click to share on F
 acebook' ><span></span><span class='sharing-screen-reader-text'>Click to s
 hare on Facebook (Opens in new window)</span></a></li><li class='share-twi
 tter'><a rel='nofollow noopener noreferrer' data-shared='sharing-twitter-1
 893' class='share-twitter sd-button share-icon no-text' href='https://torr
 anceaikidoclub.org/announcement-holiday-no-class-7/?share=twitter' target=
 '_blank' title='Click to share on Twitter' ><span></span><span class='shar
 ing-screen-reader-text'>Click to share on Twitter (Opens in new window)</s
 pan></a></li><li class='share-pinterest'><a rel='nofollow noopener norefer
 rer' data-shared='sharing-pinterest-1893' class='share-pinterest sd-button
  share-icon no-text' href='https://torranceaikidoclub.org/announcement-hol
 iday-no-class-7/?share=pinterest' target='_blank' title='Click to share on
  Pinterest' ><span></span><span class='sharing-screen-reader-text'>Click t
 o share on Pinterest (Opens in new window)</span></a></li><li class='share
 -end'></li></ul></div></div></div>
DTSTART;VALUE=DATE:20250120
DTEND;VALUE=DATE:20250121
SEQUENCE:0
SUMMARY:Holiday – No class
URL:https://torranceaikidoclub.org/event/holiday-no-class/
X-COST-TYPE:free
END:VEVENT
BEGIN:VEVENT
UID:ai1ec-1871@torranceaikidoclub.org
DTSTAMP:20260425T155740Z
CATEGORIES;LANGUAGE=en-US:Classes
CONTACT:
DESCRIPTION:<div class='sharedaddy sd-sharing-enabled'><div class='robots-n
 ocontent sd-block sd-social sd-social-icon sd-sharing'><h3 class='sd-title
 '>Share this:</h3><div class='sd-content'><ul><li class='share-email'><a r
 el='nofollow noopener noreferrer' data-shared='' class='share-email sd-but
 ton share-icon no-text' href='mailto:?subject=%5BShared%20Post%5D%20Announ
 cement%3A%20Holiday%20-%20No%20Class&body=https%3A%2F%2Ftorranceaikidoclub
 .org%2Fannouncement-holiday-no-class-7%2F&share=email' target='_blank' tit
 le='Click to email a link to a friend' data-email-share-error-title='Do yo
 u have email set up?' data-email-share-error-text='If you're having proble
 ms sharing via email\, you might not have email set up for your browser. Y
 ou may need to create a new email yourself.' data-email-share-nonce='6a7b1
 41122' data-email-share-track-url='https://torranceaikidoclub.org/announce
 ment-holiday-no-class-7/?share=email'><span></span><span class='sharing-sc
 reen-reader-text'>Click to email a link to a friend (Opens in new window)<
 /span></a></li><li class='share-facebook'><a rel='nofollow noopener norefe
 rrer' data-shared='sharing-facebook-1893' class='share-facebook sd-button 
 share-icon no-text' href='https://torranceaikidoclub.org/announcement-holi
 day-no-class-7/?share=facebook' target='_blank' title='Click to share on F
 acebook' ><span></span><span class='sharing-screen-reader-text'>Click to s
 hare on Facebook (Opens in new window)</span></a></li><li class='share-twi
 tter'><a rel='nofollow noopener noreferrer' data-shared='sharing-twitter-1
 893' class='share-twitter sd-button share-icon no-text' href='https://torr
 anceaikidoclub.org/announcement-holiday-no-class-7/?share=twitter' target=
 '_blank' title='Click to share on Twitter' ><span></span><span class='shar
 ing-screen-reader-text'>Click to share on Twitter (Opens in new window)</s
 pan></a></li><li class='share-pinterest'><a rel='nofollow noopener norefer
 rer' data-shared='sharing-pinterest-1893' class='share-pinterest sd-button
  share-icon no-text' href='https://torranceaikidoclub.org/announcement-hol
 iday-no-class-7/?share=pinterest' target='_blank' title='Click to share on
  Pinterest' ><span></span><span class='sharing-screen-reader-text'>Click t
 o share on Pinterest (Opens in new window)</span></a></li><li class='share
 -end'></li></ul></div></div></div>
DTSTART;VALUE=DATE:20250217
DTEND;VALUE=DATE:20250218
SEQUENCE:0
SUMMARY:Holiday – No class
URL:https://torranceaikidoclub.org/event/holiday-no-class-2-2/
X-COST-TYPE:free
END:VEVENT
BEGIN:VEVENT
UID:ai1ec-1861@torranceaikidoclub.org
DTSTAMP:20260425T155740Z
CATEGORIES;LANGUAGE=en-US:Classes
CONTACT:
DESCRIPTION:<div class='sharedaddy sd-sharing-enabled'><div class='robots-n
 ocontent sd-block sd-social sd-social-icon sd-sharing'><h3 class='sd-title
 '>Share this:</h3><div class='sd-content'><ul><li class='share-email'><a r
 el='nofollow noopener noreferrer' data-shared='' class='share-email sd-but
 ton share-icon no-text' href='mailto:?subject=%5BShared%20Post%5D%20Announ
 cement%3A%20Holiday%20-%20No%20Class&body=https%3A%2F%2Ftorranceaikidoclub
 .org%2Fannouncement-holiday-no-class-7%2F&share=email' target='_blank' tit
 le='Click to email a link to a friend' data-email-share-error-title='Do yo
 u have email set up?' data-email-share-error-text='If you're having proble
 ms sharing via email\, you might not have email set up for your browser. Y
 ou may need to create a new email yourself.' data-email-share-nonce='6a7b1
 41122' data-email-share-track-url='https://torranceaikidoclub.org/announce
 ment-holiday-no-class-7/?share=email'><span></span><span class='sharing-sc
 reen-reader-text'>Click to email a link to a friend (Opens in new window)<
 /span></a></li><li class='share-facebook'><a rel='nofollow noopener norefe
 rrer' data-shared='sharing-facebook-1893' class='share-facebook sd-button 
 share-icon no-text' href='https://torranceaikidoclub.org/announcement-holi
 day-no-class-7/?share=facebook' target='_blank' title='Click to share on F
 acebook' ><span></span><span class='sharing-screen-reader-text'>Click to s
 hare on Facebook (Opens in new window)</span></a></li><li class='share-twi
 tter'><a rel='nofollow noopener noreferrer' data-shared='sharing-twitter-1
 893' class='share-twitter sd-button share-icon no-text' href='https://torr
 anceaikidoclub.org/announcement-holiday-no-class-7/?share=twitter' target=
 '_blank' title='Click to share on Twitter' ><span></span><span class='shar
 ing-screen-reader-text'>Click to share on Twitter (Opens in new window)</s
 pan></a></li><li class='share-pinterest'><a rel='nofollow noopener norefer
 rer' data-shared='sharing-pinterest-1893' class='share-pinterest sd-button
  share-icon no-text' href='https://torranceaikidoclub.org/announcement-hol
 iday-no-class-7/?share=pinterest' target='_blank' title='Click to share on
  Pinterest' ><span></span><span class='sharing-screen-reader-text'>Click t
 o share on Pinterest (Opens in new window)</span></a></li><li class='share
 -end'></li></ul></div></div></div>
DTSTART;VALUE=DATE:20250526
DTEND;VALUE=DATE:20250527
SEQUENCE:0
SUMMARY:Holiday – No class
URL:https://torranceaikidoclub.org/event/holiday-no-class-2/
X-COST-TYPE:free
END:VEVENT
BEGIN:VEVENT
UID:ai1ec-1840@torranceaikidoclub.org
DTSTAMP:20260425T155740Z
CATEGORIES;LANGUAGE=en-US:Classes
CONTACT:
DESCRIPTION:<div class='sharedaddy sd-sharing-enabled'><div class='robots-n
 ocontent sd-block sd-social sd-social-icon sd-sharing'><h3 class='sd-title
 '>Share this:</h3><div class='sd-content'><ul><li class='share-email'><a r
 el='nofollow noopener noreferrer' data-shared='' class='share-email sd-but
 ton share-icon no-text' href='mailto:?subject=%5BShared%20Post%5D%20Announ
 cement%3A%20Holiday%20-%20No%20Class&body=https%3A%2F%2Ftorranceaikidoclub
 .org%2Fannouncement-holiday-no-class-7%2F&share=email' target='_blank' tit
 le='Click to email a link to a friend' data-email-share-error-title='Do yo
 u have email set up?' data-email-share-error-text='If you're having proble
 ms sharing via email\, you might not have email set up for your browser. Y
 ou may need to create a new email yourself.' data-email-share-nonce='6a7b1
 41122' data-email-share-track-url='https://torranceaikidoclub.org/announce
 ment-holiday-no-class-7/?share=email'><span></span><span class='sharing-sc
 reen-reader-text'>Click to email a link to a friend (Opens in new window)<
 /span></a></li><li class='share-facebook'><a rel='nofollow noopener norefe
 rrer' data-shared='sharing-facebook-1893' class='share-facebook sd-button 
 share-icon no-text' href='https://torranceaikidoclub.org/announcement-holi
 day-no-class-7/?share=facebook' target='_blank' title='Click to share on F
 acebook' ><span></span><span class='sharing-screen-reader-text'>Click to s
 hare on Facebook (Opens in new window)</span></a></li><li class='share-twi
 tter'><a rel='nofollow noopener noreferrer' data-shared='sharing-twitter-1
 893' class='share-twitter sd-button share-icon no-text' href='https://torr
 anceaikidoclub.org/announcement-holiday-no-class-7/?share=twitter' target=
 '_blank' title='Click to share on Twitter' ><span></span><span class='shar
 ing-screen-reader-text'>Click to share on Twitter (Opens in new window)</s
 pan></a></li><li class='share-pinterest'><a rel='nofollow noopener norefer
 rer' data-shared='sharing-pinterest-1893' class='share-pinterest sd-button
  share-icon no-text' href='https://torranceaikidoclub.org/announcement-hol
 iday-no-class-7/?share=pinterest' target='_blank' title='Click to share on
  Pinterest' ><span></span><span class='sharing-screen-reader-text'>Click t
 o share on Pinterest (Opens in new window)</span></a></li><li class='share
 -end'></li></ul></div></div></div>
DTSTART;VALUE=DATE:20251222
DTEND;VALUE=DATE:20260105
SEQUENCE:0
SUMMARY:Facilities closed – No class
URL:https://torranceaikidoclub.org/event/facilities-closed-no-class/
X-COST-TYPE:free
END:VEVENT
BEGIN:VEVENT
UID:ai1ec-1888@torranceaikidoclub.org
DTSTAMP:20260425T155740Z
CATEGORIES;LANGUAGE=en-US:Classes
CONTACT:
DESCRIPTION:<div class='sharedaddy sd-sharing-enabled'><div class='robots-n
 ocontent sd-block sd-social sd-social-icon sd-sharing'><h3 class='sd-title
 '>Share this:</h3><div class='sd-content'><ul><li class='share-email'><a r
 el='nofollow noopener noreferrer' data-shared='' class='share-email sd-but
 ton share-icon no-text' href='mailto:?subject=%5BShared%20Post%5D%20Announ
 cement%3A%20Holiday%20-%20No%20Class&body=https%3A%2F%2Ftorranceaikidoclub
 .org%2Fannouncement-holiday-no-class-7%2F&share=email' target='_blank' tit
 le='Click to email a link to a friend' data-email-share-error-title='Do yo
 u have email set up?' data-email-share-error-text='If you're having proble
 ms sharing via email\, you might not have email set up for your browser. Y
 ou may need to create a new email yourself.' data-email-share-nonce='6a7b1
 41122' data-email-share-track-url='https://torranceaikidoclub.org/announce
 ment-holiday-no-class-7/?share=email'><span></span><span class='sharing-sc
 reen-reader-text'>Click to email a link to a friend (Opens in new window)<
 /span></a></li><li class='share-facebook'><a rel='nofollow noopener norefe
 rrer' data-shared='sharing-facebook-1893' class='share-facebook sd-button 
 share-icon no-text' href='https://torranceaikidoclub.org/announcement-holi
 day-no-class-7/?share=facebook' target='_blank' title='Click to share on F
 acebook' ><span></span><span class='sharing-screen-reader-text'>Click to s
 hare on Facebook (Opens in new window)</span></a></li><li class='share-twi
 tter'><a rel='nofollow noopener noreferrer' data-shared='sharing-twitter-1
 893' class='share-twitter sd-button share-icon no-text' href='https://torr
 anceaikidoclub.org/announcement-holiday-no-class-7/?share=twitter' target=
 '_blank' title='Click to share on Twitter' ><span></span><span class='shar
 ing-screen-reader-text'>Click to share on Twitter (Opens in new window)</s
 pan></a></li><li class='share-pinterest'><a rel='nofollow noopener norefer
 rer' data-shared='sharing-pinterest-1893' class='share-pinterest sd-button
  share-icon no-text' href='https://torranceaikidoclub.org/announcement-hol
 iday-no-class-7/?share=pinterest' target='_blank' title='Click to share on
  Pinterest' ><span></span><span class='sharing-screen-reader-text'>Click t
 o share on Pinterest (Opens in new window)</span></a></li><li class='share
 -end'></li></ul></div></div></div>
DTSTART;VALUE=DATE:20260119
DTEND;VALUE=DATE:20260120
SEQUENCE:0
SUMMARY:Facilities closed – No class
URL:https://torranceaikidoclub.org/event/facilities-closed-no-class-3/
X-COST-TYPE:free
END:VEVENT
BEGIN:VEVENT
UID:ai1ec-1795@torranceaikidoclub.org
DTSTAMP:20260425T155741Z
CATEGORIES;LANGUAGE=en-US:Classes
CONTACT:
DESCRIPTION:<div class='sharedaddy sd-sharing-enabled'><div class='robots-n
 ocontent sd-block sd-social sd-social-icon sd-sharing'><h3 class='sd-title
 '>Share this:</h3><div class='sd-content'><ul><li class='share-email'><a r
 el='nofollow noopener noreferrer' data-shared='' class='share-email sd-but
 ton share-icon no-text' href='mailto:?subject=%5BShared%20Post%5D%20Announ
 cement%3A%20Holiday%20-%20No%20Class&body=https%3A%2F%2Ftorranceaikidoclub
 .org%2Fannouncement-holiday-no-class-7%2F&share=email' target='_blank' tit
 le='Click to email a link to a friend' data-email-share-error-title='Do yo
 u have email set up?' data-email-share-error-text='If you're having proble
 ms sharing via email\, you might not have email set up for your browser. Y
 ou may need to create a new email yourself.' data-email-share-nonce='6a7b1
 41122' data-email-share-track-url='https://torranceaikidoclub.org/announce
 ment-holiday-no-class-7/?share=email'><span></span><span class='sharing-sc
 reen-reader-text'>Click to email a link to a friend (Opens in new window)<
 /span></a></li><li class='share-facebook'><a rel='nofollow noopener norefe
 rrer' data-shared='sharing-facebook-1893' class='share-facebook sd-button 
 share-icon no-text' href='https://torranceaikidoclub.org/announcement-holi
 day-no-class-7/?share=facebook' target='_blank' title='Click to share on F
 acebook' ><span></span><span class='sharing-screen-reader-text'>Click to s
 hare on Facebook (Opens in new window)</span></a></li><li class='share-twi
 tter'><a rel='nofollow noopener noreferrer' data-shared='sharing-twitter-1
 893' class='share-twitter sd-button share-icon no-text' href='https://torr
 anceaikidoclub.org/announcement-holiday-no-class-7/?share=twitter' target=
 '_blank' title='Click to share on Twitter' ><span></span><span class='shar
 ing-screen-reader-text'>Click to share on Twitter (Opens in new window)</s
 pan></a></li><li class='share-pinterest'><a rel='nofollow noopener norefer
 rer' data-shared='sharing-pinterest-1893' class='share-pinterest sd-button
  share-icon no-text' href='https://torranceaikidoclub.org/announcement-hol
 iday-no-class-7/?share=pinterest' target='_blank' title='Click to share on
  Pinterest' ><span></span><span class='sharing-screen-reader-text'>Click t
 o share on Pinterest (Opens in new window)</span></a></li><li class='share
 -end'></li></ul></div></div></div>
DTSTART;TZID=America/Los_Angeles:20240108T190000
DTEND;TZID=America/Los_Angeles:20240108T210000
EXDATE;TZID=America/Los_Angeles:20240115T190000
EXDATE;TZID=America/Los_Angeles:20241214T190000
EXDATE;TZID=America/Los_Angeles:20241215T190000
EXDATE;TZID=America/Los_Angeles:20241216T190000
EXDATE;TZID=America/Los_Angeles:20241217T190000
EXDATE;TZID=America/Los_Angeles:20241218T190000
EXDATE;TZID=America/Los_Angeles:20241219T190000
EXDATE;TZID=America/Los_Angeles:20241220T190000
EXDATE;TZID=America/Los_Angeles:20241221T190000
EXDATE;TZID=America/Los_Angeles:20241222T190000
EXDATE;TZID=America/Los_Angeles:20241223T190000
EXDATE;TZID=America/Los_Angeles:20241224T190000
EXDATE;TZID=America/Los_Angeles:20241225T190000
EXDATE;TZID=America/Los_Angeles:20241226T190000
EXDATE;TZID=America/Los_Angeles:20241227T190000
EXDATE;TZID=America/Los_Angeles:20241228T190000
EXDATE;TZID=America/Los_Angeles:20241229T190000
EXDATE;TZID=America/Los_Angeles:20241230T190000
EXDATE;TZID=America/Los_Angeles:20241231T190000
EXDATE;TZID=America/Los_Angeles:20250101T190000
EXDATE;TZID=America/Los_Angeles:20250102T190000
EXDATE;TZID=America/Los_Angeles:20250103T190000
EXDATE;TZID=America/Los_Angeles:20250104T190000
EXDATE;TZID=America/Los_Angeles:20250105T190000
EXDATE;TZID=America/Los_Angeles:20250120T190000
EXDATE;TZID=America/Los_Angeles:20251224T190000
EXDATE;TZID=America/Los_Angeles:20251231T190000
EXDATE;TZID=America/Los_Angeles:20261111T190000
GEO:+33.839364;-118.343441
LOCATION:Torrance Cultural Arts Center @ 3330 Civic Center Drive\, Torrance
 \, CA 90503\, USA
RRULE:FREQ=WEEKLY;BYDAY=WE;WKST=MO
SEQUENCE:0
SUMMARY:Regular class (Wed)
URL:https://torranceaikidoclub.org/event/regular-class/
X-COST-TYPE:free
END:VEVENT
BEGIN:VEVENT
UID:ai1ec-1837@torranceaikidoclub.org
DTSTAMP:20260425T155741Z
CATEGORIES;LANGUAGE=en-US:Classes
CONTACT:
DESCRIPTION:<div class='sharedaddy sd-sharing-enabled'><div class='robots-n
 ocontent sd-block sd-social sd-social-icon sd-sharing'><h3 class='sd-title
 '>Share this:</h3><div class='sd-content'><ul><li class='share-email'><a r
 el='nofollow noopener noreferrer' data-shared='' class='share-email sd-but
 ton share-icon no-text' href='mailto:?subject=%5BShared%20Post%5D%20Announ
 cement%3A%20Holiday%20-%20No%20Class&body=https%3A%2F%2Ftorranceaikidoclub
 .org%2Fannouncement-holiday-no-class-7%2F&share=email' target='_blank' tit
 le='Click to email a link to a friend' data-email-share-error-title='Do yo
 u have email set up?' data-email-share-error-text='If you're having proble
 ms sharing via email\, you might not have email set up for your browser. Y
 ou may need to create a new email yourself.' data-email-share-nonce='6a7b1
 41122' data-email-share-track-url='https://torranceaikidoclub.org/announce
 ment-holiday-no-class-7/?share=email'><span></span><span class='sharing-sc
 reen-reader-text'>Click to email a link to a friend (Opens in new window)<
 /span></a></li><li class='share-facebook'><a rel='nofollow noopener norefe
 rrer' data-shared='sharing-facebook-1893' class='share-facebook sd-button 
 share-icon no-text' href='https://torranceaikidoclub.org/announcement-holi
 day-no-class-7/?share=facebook' target='_blank' title='Click to share on F
 acebook' ><span></span><span class='sharing-screen-reader-text'>Click to s
 hare on Facebook (Opens in new window)</span></a></li><li class='share-twi
 tter'><a rel='nofollow noopener noreferrer' data-shared='sharing-twitter-1
 893' class='share-twitter sd-button share-icon no-text' href='https://torr
 anceaikidoclub.org/announcement-holiday-no-class-7/?share=twitter' target=
 '_blank' title='Click to share on Twitter' ><span></span><span class='shar
 ing-screen-reader-text'>Click to share on Twitter (Opens in new window)</s
 pan></a></li><li class='share-pinterest'><a rel='nofollow noopener norefer
 rer' data-shared='sharing-pinterest-1893' class='share-pinterest sd-button
  share-icon no-text' href='https://torranceaikidoclub.org/announcement-hol
 iday-no-class-7/?share=pinterest' target='_blank' title='Click to share on
  Pinterest' ><span></span><span class='sharing-screen-reader-text'>Click t
 o share on Pinterest (Opens in new window)</span></a></li><li class='share
 -end'></li></ul></div></div></div>
DTSTART;TZID=America/Los_Angeles:20241203T193000
EXDATE;TZID=America/Los_Angeles:20241214T193000
EXDATE;TZID=America/Los_Angeles:20241215T193000
EXDATE;TZID=America/Los_Angeles:20241216T193000
EXDATE;TZID=America/Los_Angeles:20241217T193000
EXDATE;TZID=America/Los_Angeles:20241218T193000
EXDATE;TZID=America/Los_Angeles:20241219T193000
EXDATE;TZID=America/Los_Angeles:20241220T193000
EXDATE;TZID=America/Los_Angeles:20241221T193000
EXDATE;TZID=America/Los_Angeles:20241222T193000
EXDATE;TZID=America/Los_Angeles:20241223T193000
EXDATE;TZID=America/Los_Angeles:20241224T193000
EXDATE;TZID=America/Los_Angeles:20241225T193000
EXDATE;TZID=America/Los_Angeles:20241226T193000
EXDATE;TZID=America/Los_Angeles:20241227T193000
EXDATE;TZID=America/Los_Angeles:20241228T193000
EXDATE;TZID=America/Los_Angeles:20241229T193000
EXDATE;TZID=America/Los_Angeles:20241230T193000
EXDATE;TZID=America/Los_Angeles:20241231T193000
EXDATE;TZID=America/Los_Angeles:20250101T193000
EXDATE;TZID=America/Los_Angeles:20250102T193000
EXDATE;TZID=America/Los_Angeles:20250103T193000
EXDATE;TZID=America/Los_Angeles:20250104T193000
EXDATE;TZID=America/Los_Angeles:20250105T193000
EXDATE;TZID=America/Los_Angeles:20250217T193000
EXDATE;TZID=America/Los_Angeles:20250526T193000
EXDATE;TZID=America/Los_Angeles:20250901T193000
EXDATE;TZID=America/Los_Angeles:20251222T193000
EXDATE;TZID=America/Los_Angeles:20251229T193000
EXDATE;TZID=America/Los_Angeles:20260119T193000
EXDATE;TZID=America/Los_Angeles:20260216T193000
EXDATE;TZID=America/Los_Angeles:20260525T193000
EXDATE;TZID=America/Los_Angeles:20260907T193000
GEO:+33.839364;-118.343441
LOCATION:Torrance Cultural Arts Center @ 3330 Civic Center Drive\, Torrance
 \, CA 90503\, USA
RRULE:FREQ=WEEKLY;BYDAY=MO;WKST=MO
SEQUENCE:0
SUMMARY:Regular class (Mon)
URL:https://torranceaikidoclub.org/event/regular-class-monday/
X-COST-TYPE:free
X-INSTANT-EVENT:1
END:VEVENT
END:VCALENDAR
